{"text_format":"1","workbook":"xlsx","n_sheets":5,"sheets":["Route","Other AD","Costs","Config","Sheet1"],"not_rendered":{"charts":0,"images":1,"macros":1,"external_links":0,"defined_names":0,"comments":0,"pivot_tables":0},"unopened":[],"bounds":{"document_bytes":16777216,"sheet_cells":100000,"rows_first":2000,"rows_last":500,"rows_between":2000,"halvings":0,"cell_chars":16384,"cell_head_chars":4096},"cells_cut":0,"cells_raw":0,"read":"whole","date_system":"1900"}

{"sheet":"Route","index":0,"n_rows":58,"n_cols":29,"rows_kept":58,"cut":false,"hidden":false,"merged":[[2,25,3,25],[45,28,48,28],[49,28,52,28],[53,28,54,28],[5,28,8,28],[2,27,3,27],[5,27,8,27],[2,28,3,28],[41,28,43,28],[22,27,27,27],[31,27,34,27],[28,28,30,28],[9,28,14,28],[15,28,21,28],[15,27,21,27],[2,13,3,13],[2,14,3,14],[2,15,2,17],[2,18,2,19],[2,24,3,24],[2,20,2,21],[2,22,2,23],[53,27,54,27],[1,7,1,28],[2,7,3,7],[1,0,3,0],[1,1,3,1],[1,2,1,6],[2,2,3,2],[2,3,3,3],[2,4,3,4],[2,5,2,6],[2,11,3,11],[2,8,3,8],[2,26,3,26],[2,9,3,9],[2,10,3,10],[2,12,3,12]]}
[]
["Day #","DT","Flight",null,null,null,null,"DEST"]
[null,null,"RT","DIST (NM)","EFT","Time",null,"WT","CD (LT)","SR (LT)","SS (LT)","CD (LT)","TZ","NME","ELEV (ft)","RWY",null,null,"COM",null,"LAT",null,"LON",null,"PPR","tel","OPER","Plan in place","RMK"]
[null,null,null,null,null,"TO (LT)","LDG (LT)",null,null,null,null,null,null,null,null,"HD","SFC","LDA (m)","CS","FRQ","DEG","MIN","DEG","MIN"]
[1,"2009-08-09","LKBE - Riedelbach",244,{"$f":"D5/Config!$B$1/24","v":"02:52:14.118"},"11:00:00",{"$f":"F5+E5","v":"13:52:14.118"},"01:00:00",{"$f":"dawn(U5+(V5/60),W5+(X5/60),YEAR(B5),MONTH(B5),DAY(B5),M5*24,1,6)","v":"05:28:55.802"},{"$f":"sunrise(U5+(V5/60),W5+(X5/60),YEAR(B5),MONTH(B5),DAY(B5),M5*24,1)","v":"06:06:20.448"},{"$f":"sunset(U5+(V5/60),W5+(X5/60),YEAR(B5),MONTH(B5),DAY(B5),M5*24,1)","v":"20:56:33.214"},{"$f":"dusk(U5+(V5/60),W5+(X5/60),YEAR(B5),MONTH(B5),DAY(B5),M5*24,1,6)","v":"21:33:50.790"},{"$f":"1/24","v":4.1666666666666664E-2},"Riedelbach",1667,null,null,null,null,"130.120",50,18.166833333333333,8,22.993333333333332]
[null,null,"Riedelbach - LFAC",248,{"$f":"D6/Config!$B$1/24","v":"02:55:03.529"},{"$f":"G5+H5","v":"14:52:14.118"},{"$f":"F6+E6","v":"17:47:17.647"},null,{"$f":"dawn(U6+(V6/60),W6+(X6/60),YEAR(B5),MONTH(B5),DAY(B5),M6*24,1,6)","v":"05:51:52.810"},{"$f":"sunrise(U6+(V6/60),W6+(X6/60),YEAR(B5),MONTH(B5),DAY(B5),M6*24,1)","v":"06:30:01.017"},{"$f":"sunset(U6+(V6/60),W6+(X6/60),YEAR(B5),MONTH(B5),DAY(B5),M6*24,1)","v":"21:24:17.535"},{"$f":"dusk(U6+(V6/60),W6+(X6/60),YEAR(B5),MONTH(B5),DAY(B5),M6*24,1,6)","v":"22:02:18.205"},{"$f":"1/24","v":4.1666666666666664E-2},"Calais",12,"06/24","asphalt",1535,"LILLE INFO","134.820",50,57.6,1,57.1,null,null,null,"Dinner, walk, customs","WND <4kt => RIU 24; WRNG sea fog"]
[null,null,null,null,null,null,null,null,null,null,null,null,null,null,null,null,null,null,"ATIS","135.450"]
[null,null,null,null,null,null,null,null,null,null,null,null,null,null,null,null,null,null,"LILLE APP","120.270"]
[null,null,null,null,null,null,null,null,null,null,null,null,null,null,null,null,null,null,"CALAIS TWR","128.920"]
[2,"2009-08-10","LFAC - EGNV",257,{"$f":"D10/Config!$B$1/24","v":"03:01:24.706"},"10:00:00",{"$f":"F10+E10","v":"13:01:24.706"},"01:00:00",{"$f":"dawn(U10+(V10/60),W10+(X10/60),YEAR(B10),MONTH(B10),DAY(B10),M10*24,1,6)","v":"04:38:48.834"},{"$f":"sunrise(U10+(V10/60),W10+(X10/60),YEAR(B10),MONTH(B10),DAY(B10),M10*24,1)","v":"05:21:24.045"},{"$f":"sunset(U10+(V10/60),W10+(X10/60),YEAR(B10),MONTH(B10),DAY(B10),M10*24,1)","v":"20:36:34.521"},{"$f":"dusk(U10+(V10/60),W10+(X10/60),YEAR(B10),MONTH(B10),DAY(B10),M10*24,1,6)","v":"21:18:58.899"},0,"Durham Tees Valley",120,"05/23","asphalt",{"$f":"7516*0.305","v":2292.38},"London INFO","125.470",54,30.5,1,25.8,null,null,null,null,"High visibility jackets"]
[null,null,null,null,null,null,null,null,null,null,null,null,null,null,null,null,null,null,"ATIS","132.375 | 136.200"]
[null,null,null,null,null,null,null,null,null,null,null,null,null,null,null,null,null,null,"Durham APP","118.850"]
[null,null,null,null,null,null,null,null,null,null,null,null,null,null,null,null,null,null,"Durham Dir RDR","128.850"]
[null,null,null,null,null,null,null,null,null,null,null,null,null,null,null,null,null,null,"Durham RDR","118.850"]
[null,null,null,null,null,null,null,null,null,null,null,null,null,null,null,null,null,null,"Durham TWR","119.800"]
[null,null,"EGNV - EGPH",109,{"$f":"D16/Config!$B$1/24","v":"01:16:56.471"},{"$f":"G10+H10","v":"14:01:24.706"},{"$f":"F16+E16","v":"15:18:21.176"},null,{"$f":"dawn(U16+(V16/60),W16+(X16/60),YEAR(B10),MONTH(B10),DAY(B10),M16*24,1,6)","v":"04:49:58.300"},{"$f":"sunrise(U16+(V16/60),W16+(X16/60),YEAR(B10),MONTH(B10),DAY(B10),M16*24,1)","v":"05:34:55.853"},{"$f":"sunset(U16+(V16/60),W16+(X16/60),YEAR(B10),MONTH(B10),DAY(B10),M16*24,1)","v":"21:01:21.216"},{"$f":"dusk(U16+(V16/60),W16+(X16/60),YEAR(B10),MONTH(B10),DAY(B10),M16*24,1,6)","v":"21:46:05.818"},0,"Edinburgh",136,"06/24","asphalt",{"$f":"8389*0.305","v":2558.645},"Scottish INFO","119.870",55,57,-3,-22.3,null,null,null,"City walk,\ncastle","VIS MNM 3KM\nALT MAX 2000\nAPP via lanes - Polmont, Kelty"]
[null,null,null,null,null,null,null,null,null,null,null,null,null,null,null,"12/30","asphalt",{"$f":"5899*0.305","v":1799.1949999999999},"ATIS","131.350"]
[null,null,null,null,null,null,null,null,null,null,null,null,null,null,null,null,null,null,"Edinburgh RDR","128.975"]
[null,null,null,null,null,null,null,null,null,null,null,null,null,null,null,null,null,null,"Edinburgh RDR","121.200"]
[null,null,null,null,null,null,null,null,null,null,null,null,null,null,null,null,null,null,"Edinburgh APP","121.200"]
[null,null,null,null,null,null,null,null,null,null,null,null,null,null,null,null,null,null,"Edinburgh TWR","118.700"]
[null,null,null,null,null,null,null,null,null,null,null,null,null,null,null,null,null,null,"Edinburgh GND","121.750"]
[3,"2009-08-11","EGPH - EGPE",98.1,{"$f":"D23/Config!$B$1/24","v":"01:09:14.824"},"10:00:00",{"$f":"F23+E23","v":"11:09:14.824"},null,{"$f":"dawn(U23+(V23/60),W23+(X23/60),YEAR(B23),MONTH(B23),DAY(B23),M23*24,1,6)","v":"04:45:12.276"},{"$f":"sunrise(U23+(V23/60),W23+(X23/60),YEAR(B23),MONTH(B23),DAY(B23),M23*24,1)","v":"05:32:49.991"},{"$f":"sunset(U23+(V23/60),W23+(X23/60),YEAR(B23),MONTH(B23),DAY(B23),M23*24,1)","v":"21:08:24.289"},{"$f":"dusk(U23+(V23/60),W23+(X23/60),YEAR(B23),MONTH(B23),DAY(B23),M23*24,1,6)","v":"21:55:46.401"},0,"Inverness",31,"05/23","asphalt",{"$f":"6191*0.305","v":1888.2549999999999},"Scottish INFO","129.220",57,32.5,-4,-2.8,"X",null,null,"Trip to Loch-Ness, probably a car will be needed"]
[null,null,null,null,null,null,null,null,null,null,null,null,null,null,null,"12/30","asphalt",{"$f":"2297*0.305","v":700.58500000000004},"ATIS","109.200"]
[null,null,null,null,null,null,null,null,null,null,null,null,null,null,null,null,null,null,"Inverness RDR","122.600"]
[null,null,null,null,null,null,null,null,null,null,null,null,null,null,null,null,null,null,"Inverness APP","122.600"]
[null,null,null,null,null,null,null,null,null,null,null,null,null,null,null,null,null,null,"Inverness TWR","122.600"]
[null,null,null,null,null,null,null,null,null,null,null,null,null,null,null,null,null,null,"Inverness TWR","118.400"]
[4,"2009-08-12","EGPE - EGAE",182,{"$f":"D29/Config!$B$1/24","v":"02:08:28.235"},"10:00:00",{"$f":"F29+E29","v":"12:08:28.235"},"01:00:00",{"$f":"dawn(U29+(V29/60),W29+(X29/60),YEAR(B29),MONTH(B29),DAY(B29),M29*24,1,6)","v":"05:14:38.429"},{"$f":"sunrise(U29+(V29/60),W29+(X29/60),YEAR(B29),MONTH(B29),DAY(B29),M29*24,1)","v":"05:57:28.124"},{"$f":"sunset(U29+(V29/60),W29+(X29/60),YEAR(B29),MONTH(B29),DAY(B29),M29*24,1)","v":"21:08:32.314"},{"$f":"dusk(U29+(V29/60),W29+(X29/60),YEAR(B29),MONTH(B29),DAY(B29),M29*24,1,6)","v":"21:51:11.055"},0,"Londonderry",22,"08/26","asphalt",{"$f":"6453*0.305","v":1968.165},"Scottish INFO","127.270",55,2.6,-7,-9.6999999999999993,"X",null,null,"Customs","RWY 26 - preffered APP\nRouting VRP\nHigh visibility vests"]
[null,null,null,null,null,null,null,null,null,null,null,null,null,null,null,null,null,null,"Eglinton APP","123.625"]
[null,null,null,null,null,null,null,null,null,null,null,null,null,null,null,null,null,null,"Eglinton TWR","134.150"]
[null,null,"EGAE - EIKY",192,{"$f":"D32/Config!$B$1/24","v":"02:15:31.765"},{"$f":"G29+H29","v":"13:08:28.235"},{"$f":"F32+E32","v":"15:24:00"},null,{"$f":"dawn(U32+(V32/60),W32+(X32/60),YEAR(B29),MONTH(B29),DAY(B29),M32*24,1,6)","v":"05:38:02.350"},{"$f":"sunrise(U32+(V32/60),W32+(X32/60),YEAR(B29),MONTH(B29),DAY(B29),M32*24,1)","v":"06:16:58.103"},{"$f":"sunset(U32+(V32/60),W32+(X32/60),YEAR(B29),MONTH(B29),DAY(B29),M32*24,1)","v":"21:08:27.790"},{"$f":"dusk(U32+(V32/60),W32+(X32/60),YEAR(B29),MONTH(B29),DAY(B29),M32*24,1,6)","v":"21:47:15.550"},0,"Kerry",112,"08/26","asphalt",{"$f":"6562*0.305","v":2001.4099999999999},"Shannon CTRL","124.700",52,10.9,-9,-34.1,"X",null,null,"http://goireland.about.com/od/corkandmunster/qt/killarney.htm"]
[null,null,null,null,null,null,null,null,null,null,null,null,null,null,null,null,null,null,"ATIS","118.025"]
[null,null,null,null,null,null,null,null,null,null,null,null,null,null,null,null,null,null,"Kerry TWR","123.325"]
[null,null,null,null,null,null,null,null,null,null,null,null,null,null,null,null,null,null,"Kerry GND","121.600"]
[5,"2009-08-13","EIKY - EGGD",264,{"$f":"D36/Config!$B$1/24","v":"03:06:21.176"},"10:00:00",{"$f":"F36+E36","v":"13:06:21.176"},"01:00:00",{"$f":"dawn(U36+(V36/60),W36+(X36/60),YEAR(B36),MONTH(B36),DAY(B36),M36*24,1,6)","v":"05:15:47.847"},{"$f":"sunrise(U36+(V36/60),W36+(X36/60),YEAR(B36),MONTH(B36),DAY(B36),M36*24,1)","v":"05:53:36.328"},{"$f":"sunset(U36+(V36/60),W36+(X36/60),YEAR(B36),MONTH(B36),DAY(B36),M36*24,1)","v":"20:36:43.047"},{"$f":"dusk(U36+(V36/60),W36+(X36/60),YEAR(B36),MONTH(B36),DAY(B36),M36*24,1,6)","v":"21:14:24.311"},0,"Bristol",622,"09/27","asphalt",{"$f":"6598*0.305","v":2012.3899999999999},"London INFO","124.750",51,23,-2,-43.1,null,null,null,"Customs"]
[null,null,null,null,null,null,null,null,null,null,null,null,null,null,null,null,null,null,"ATIS","126.025"]
[null,null,null,null,null,null,null,null,null,null,null,null,null,null,null,null,null,null,"Bristol RDR","125.650"]
[null,null,null,null,null,null,null,null,null,null,null,null,null,null,null,null,null,null,"Bristol RDR","136.075"]
[null,null,null,null,null,null,null,null,null,null,null,null,null,null,null,null,null,null,"Bristol TWR","133.850"]
[null,null,null,null,null,null,null,null,null,null,null,null,null,null,null,null,null,null,"Bristol GND","121.925"]
[null,null,"EGGD - EGLS",39,{"$f":"D42/Config!$B$1/24","v":"00:27:31.765"},{"$f":"G36+H36","v":"14:06:21.176"},{"$f":"F42+E42","v":"14:33:52.941"},null,{"$f":"dawn(U42+(V42/60),W42+(X42/60),YEAR(B36),MONTH(B36),DAY(B36),M42*24,1,6)","v":"05:13:12.700"},{"$f":"sunrise(U42+(V42/60),W42+(X42/60),YEAR(B36),MONTH(B36),DAY(B36),M42*24,1)","v":"05:50:42.531"},{"$f":"sunset(U42+(V42/60),W42+(X42/60),YEAR(B36),MONTH(B36),DAY(B36),M42*24,1)","v":"20:32:08.967"},{"$f":"dusk(U42+(V42/60),W42+(X42/60),YEAR(B36),MONTH(B36),DAY(B36),M42*24,1,6)","v":"21:09:31.775"},0,"Old Sarum",285,"06/24","grass",{"$f":"2562*0.305","v":781.41},"London INFO","124.750",51,5.9,-1,-47,"X",null,null,"Stonehenge visit","CTAC Boscombe Zone in case MATZ active\nCLSD after 1700 LT"]
[null,null,null,null,null,null,null,null,null,null,null,null,null,null,null,null,null,null,"Boscombe Zone","126.700"]
[null,null,null,null,null,null,null,null,null,null,null,null,null,null,null,null,null,null,"Old Sarum Radio","123.200"]
[6,"2009-08-14","NIL",null,null,null,null,null,null,null,null,null,null,null,null,null,null,null,null,null,null,null,null,null,null,null,null,"Trip to Stonehenge"]
[7,"2009-08-15","EGLS - LFOZ",269,{"$f":"D46/Config!$B$1/24","v":"03:09:52.941"},"10:00:00",{"$f":"F46+E46","v":"13:09:52.941"},"01:00:00",{"$f":"dawn(U46+(V46/60),W46+(X46/60),YEAR(B46),MONTH(B46),DAY(B46),M46*24,1,6)","v":"06:12:14.893"},{"$f":"sunrise(U46+(V46/60),W46+(X46/60),YEAR(B46),MONTH(B46),DAY(B46),M46*24,1)","v":"06:46:23.200"},{"$f":"sunset(U46+(V46/60),W46+(X46/60),YEAR(B46),MONTH(B46),DAY(B46),M46*24,1)","v":"21:04:16.723"},{"$f":"dusk(U46+(V46/60),W46+(X46/60),YEAR(B46),MONTH(B46),DAY(B46),M46*24,1,6)","v":"21:38:19.959"},4.1666666666666664E-2,"St. Denis de L'hotel",396,"05/23","paved",{"$f":"4567*0.305","v":1392.9349999999999},"Sene INFO","118.050",47,53.8,2,9.8000000000000007,"X",null,null,"Customs","ULM authorization\nWND <4kt => RWY 23\nLDG susp if GLD on GRS RWY on adjanced half"]
[null,null,null,null,null,null,null,null,null,null,null,null,null,null,null,null,null,null,"Bricy APP","122.700"]
[null,null,null,null,null,null,null,null,null,null,null,null,null,null,null,null,null,null,"Saint Denis Multicom","122.400"]
[null,null,null,null,null,null,null,null,null,null,null,null,null,null,null,null,null,null,"Saint Denis AFIS","122.400"]
[null,null,"LFOZ - LFQG",76,{"$f":"D50/Config!$B$1/24","v":"00:53:38.824"},{"$f":"G46+H46","v":"14:09:52.941"},{"$f":"F50+E50","v":"15:03:31.765"},null,{"$f":"dawn(U50+(V50/60),W50+(X50/60),YEAR(B46),MONTH(B46),DAY(B46),M50*24,1,6)","v":"06:11:18.530"},{"$f":"sunrise(U50+(V50/60),W50+(X50/60),YEAR(B46),MONTH(B46),DAY(B46),M50*24,1)","v":"06:44:43.748"},{"$f":"sunset(U50+(V50/60),W50+(X50/60),YEAR(B46),MONTH(B46),DAY(B46),M50*24,1)","v":"20:58:23.966"},{"$f":"dusk(U50+(V50/60),W50+(X50/60),YEAR(B46),MONTH(B46),DAY(B46),M50*24,1,6)","v":"21:31:44.460"},4.1666666666666664E-2,"Fourchambault",602,"12/30","paved",{"$f":"5348*0.305","v":1631.1399999999999},"Paris South INFO","126.100",47,0.2,3,6.6,null,null,null,"Old town visit","WND <4kt => RWY 30"]
[null,null,null,null,null,null,null,null,null,null,null,null,null,null,null,null,null,null,"Avord APP (>=2100')","119.700"]
[null,null,null,null,null,null,null,null,null,null,null,null,null,null,null,null,null,null,"Nevers Multicom","120.600"]
[null,null,null,null,null,null,null,null,null,null,null,null,null,null,null,null,null,null,"Nevers INFO","120.600"]
[8,"2009-08-16","LFQG - EDTW",230,{"$f":"D54/Config!$B$1/24","v":"02:42:21.176"},"10:00:00",{"$f":"F54+E54","v":"12:42:21.176"},"01:00:00",{"$f":"dawn(U54+(V54/60),W54+(X54/60),YEAR(B54),MONTH(B54),DAY(B54),M54*24,1,6)","v":"05:47:25.219"},{"$f":"sunrise(U54+(V54/60),W54+(X54/60),YEAR(B54),MONTH(B54),DAY(B54),M54*24,1)","v":"06:21:44.281"},{"$f":"sunset(U54+(V54/60),W54+(X54/60),YEAR(B54),MONTH(B54),DAY(B54),M54*24,1)","v":"20:38:23.333"},{"$f":"dusk(U54+(V54/60),W54+(X54/60),YEAR(B54),MONTH(B54),DAY(B54),M54*24,1,6)","v":"21:12:37.278"},4.1666666666666664E-2,"Schramberg",2202,"15/33","asphalt",{"$f":"2310*0.305","v":704.55},"Langen INFO","128.950",48,16.8,8,25.7,"X",null,null,"Refueling\nProbably we split here","Flashing of yellow gliderwintch = no LDG/TKOF"]
[null,null,null,null,null,null,null,null,null,null,null,null,null,null,null,null,null,null,"Winzel INFO <=3000'","123.650"]
[null,null,"EDTW - LKBE",261,{"$f":"D56/Config!$B$1/24","v":"03:04:14.118"},{"$f":"G54+H54","v":"13:42:21.176"},{"$f":"F56+E56","v":"16:46:35.294"},null,{"$f":"dawn(U56+(V56/60),W56+(X56/60),YEAR(B52),MONTH(B52),DAY(B52),M56*24,1,6)","v":"07:36:57.776"},{"$f":"sunrise(U56+(V56/60),W56+(X56/60),YEAR(B52),MONTH(B52),DAY(B52),M56*24,1)","v":"07:59:26.667"},{"$f":"sunset(U56+(V56/60),W56+(X56/60),YEAR(B52),MONTH(B52),DAY(B52),M56*24,1)","v":"20:06:55.836"},{"$f":"dusk(U56+(V56/60),W56+(X56/60),YEAR(B52),MONTH(B52),DAY(B52),M56*24,1,6)","v":"20:29:24.350"},4.1666666666666664E-2,"Benešov"]
["Total",null,null,{"$f":"SUM(D5:D56)","v":2469.1},{"$f":"SUM(E5:E56)","v":1.2103431372549021}]
[null,null,"Key event"]

{"sheet":"Other AD","index":1,"n_rows":4,"n_cols":16,"rows_kept":4,"cut":false,"hidden":false,"merged":[[0,15,3,15]]}
["Sligo",11,"11/29","asphalt",{"$f":"3934*0.305","v":1199.8699999999999},"Shannon CTRL","124.700",54,16.8,-8,-36,"X",null,null,null,"Strictly PPR for UL"]
[null,null,null,null,null,"Sligo Info (AFIS)","122.100"]
[null,null,null,null,null,"Sligo TWR","122.100"]
[null,null,null,null,null,"Sligo GND","122.100"]

{"sheet":"Costs","index":2,"n_rows":11,"n_cols":6,"rows_kept":11,"cut":false,"hidden":false,"merged":[[2,3,2,5],[2,0,2,2]]}
["Total",{"$f":"SUM(B4:B44)+SUM(E4:E44)","v":3849.4750588235293},"EUR",{"$f":"B1*Config!B3","v":109209.60741882352},"CZK"]
["Total per person",{"$f":"B1/2","v":1924.7375294117646},"EUR",{"$f":"D1/2","v":54604.803709411761},{"$f":"E1","v":"CZK"}]
[]
["Petrol",{"$f":"Config!B2*Config!B4*Route!E57*24","v":1068.9750588235295},"EUR",{"$f":"B4*Config!$B$3","v":30326.822418823533},"CZK"]
["LDG",{"$f":"(COUNT(Route!D3:D134)-1)*Config!B6","v":520},"EUR",{"$f":"B5*Config!$B$3","v":14752.4},"CZK"]
["Hangar",{"$f":"(COUNT(Route!A5:A164)-1)*Config!B5","v":210},"EUR",{"$f":"B6*Config!$B$3","v":5957.7},"CZK"]
["Accomodation",{"$f":"(COUNT(Route!A5:A164)-1)*Config!B7","v":420},"EUR",{"$f":"B7*Config!$B$3","v":11915.4},"CZK"]
["Transport",{"$f":"(COUNT(Route!A5:A164)-1)*2*Config!B8","v":210},"EUR",{"$f":"B8*Config!$B$3","v":5957.7},"CZK"]
["Meal",{"$f":"(COUNT(Route!A5:A164)-1)*2*Config!B9*2","v":980},"EUR",{"$f":"B9*Config!$B$3","v":27802.600000000002},"CZK"]
["Printed maps",{"$f":"15*11.5","v":172.5},"EUR",{"$f":"B10*Config!$B$3","v":4893.8249999999998},"CZK","15 Jepp maps - EG1-5; EI1-2; EG/LF; LF2,3,5; EB/EH; ED2,5,6"]
["Rasters Jepp maps",268,"EUR",{"$f":"B11*Config!$B$3","v":7603.16},"CZK","full EU because of other routes planned for this year"]

{"sheet":"Config","index":3,"n_rows":9,"n_cols":3,"rows_kept":9,"cut":false,"hidden":false,"merged":[]}
["AVG GS",85,"kt"]
["CONS",16,"l / h"]
["1 EUR",28.37,"CZK"]
["AVGAS",2.2999999999999998,"EUR / l"]
["Hangar",30,"EUR / day"]
["LDG fee",40,"EUR / LDG"]
["Accomodation",60,"EUR / night"]
["Transport",15,"EUR / fare"]
["Lunch / dinner",35,"EUR"]

{"sheet":"Sheet1","index":4,"n_rows":2,"n_cols":8,"rows_kept":2,"cut":false,"hidden":false,"merged":[]}
[50,18,10.01]
[8,22,59.6,null,{"$f":"A1","v":50},{"$f":"B1+(C1/60)","v":18.166833333333333},{"$f":"A2","v":8},{"$f":"B2+(C2/60)","v":22.993333333333332}]